BEGIN:VCALENDAR
VERSION:2.0
PRODID:-//YourCompany//Events//RU
CALSCALE:GREGORIAN
METHOD:PUBLISH
BEGIN:VEVENT
UID:1416@it-murman.ru:443
DTSTAMP:20260425T172427Z
DTSTART:20210422T150000Z
DTEND:20210422T173000Z
SUMMARY:ITea-103: Комплексный подход к внедрению логистических ИТ-систем
LOCATION:Online
DESCRIPTION:\\n	 Приглашаем на 103-ю встречу клуба ITea. Тема – Комплексный подход к внедрению логистических ИТ-систем. Мероприятие будет проходить 22 апреля с 18.00 до 20.30 в режиме онлайн.\\n\\n\\n	 На встрече Горбачев Максим Александрович\, к.ф.-м.н.\, руководитель отдела разработки ПО\, ООО «Научный логистический центр»\, покажет возможности применения специализированного ПО\, используемого в современной разработке применительно к проектам на платформе 1С:Предприятие\, основываясь на собственном опыте разработки и внедрения комплексных решений.\\n\\n\\n Тезисы доклада:\\n\\n\\n	 - создание модели бизнес-процессов и проектирование целевой архитектуры решения\;\\n\\n\\n	 - организация процесса разработки: итеративный подход\, версионирование кода\, юнит-тесты\;\\n\\n\\n	 - 1С как бэкенд бизнес-логики для веба\;\\n\\n\\n	 - работа с картами в 1С\;\\n\\n\\n	 - разработка отчётности с использованием BI инструментов.\\n\\n \\n Участие бесплатное. Необходима предварительная регистрация.\\n \\n\\n Клуб ITea – это сообщество специалистов предприятий и организаций Мурманской области\, интересующихся информационными технологиями.\\n\\n\\n ITea функционирует с января 2010 года. Встречи проходят ежемесячно\, кроме летнего периода. Каждая встреча имеет тематическую направленность и проходит в непринуждённой\, доброжелательной обстановке.\\n  \\n \\n	Будем рады видеть Вас среди участников клуба и на странице в facebook.\\n\\n\\n \\n \\n\n\nhttps://it-murman.ru:443/company/events/itea-103-kompleksnyj-podhod-k-vnedreniyu-logisticheskih-it-sistem/
URL:https://it-murman.ru:443/company/events/itea-103-kompleksnyj-podhod-k-vnedreniyu-logisticheskih-it-sistem/
END:VEVENT
END:VCALENDAR
