BEGIN:VCALENDAR
VERSION:2.0
PRODID:-//YourCompany//Events//RU
CALSCALE:GREGORIAN
METHOD:PUBLISH
BEGIN:VEVENT
UID:2728@it-murman.ru:443
DTSTAMP:20260424T115321Z
DTSTART:20260225T120000Z
DTEND:20260225T130000Z
SUMMARY:Управление заказами на малом производстве: простые решения для контроля ресурсов и роста прибыли
LOCATION:Online
DESCRIPTION:Как связать продажи\, производство\, закупки и склад в единый процесс\, чтобы материалы поступали вовремя под заказы\, склад не перегружался\, а прибыль по сделке была ясна до отгрузки – без сложных систем и долгих внедрений. Расскажем на вебинаре – регистрируйтесь!\n\nhttps://it-murman.ru:443/company/events/upravleniye-zakazami-v-malom-biznese-prostyye-resheniya-dlya-kontrolya-resursov-i-rosta-pribyli/
URL:https://it-murman.ru:443/company/events/upravleniye-zakazami-v-malom-biznese-prostyye-resheniya-dlya-kontrolya-resursov-i-rosta-pribyli/
END:VEVENT
END:VCALENDAR
