BEGIN:VCALENDAR
VERSION:2.0
PRODID:-//YourCompany//Events//RU
CALSCALE:GREGORIAN
METHOD:PUBLISH
BEGIN:VEVENT
UID:2825@it-murman.ru:443
DTSTAMP:20260425T143733Z
DTSTART:20260527T070000Z
DTEND:20260527T110000Z
SUMMARY:Единый торговый семинар 1С: антикризисные решения для бизнеса в условиях падения спроса и роста налоговой нагрузки
LOCATION:Online
DESCRIPTION:Зарегистрируйтесь\, чтобы узнать\, как сохранить клиентов\, стимулировать продажи и оптимизировать налоговую нагрузку в условиях меняющегося рынка 2026 года.\n\nhttps://it-murman.ru:443/company/events/edinyy-torgovyy-seminar-1s-antikrizisnye-resheniya-dlya-biznesa-v-usloviyah-padeniya-sprosa-i-rosta-nalogovoy-nagruzki/
URL:https://it-murman.ru:443/company/events/edinyy-torgovyy-seminar-1s-antikrizisnye-resheniya-dlya-biznesa-v-usloviyah-padeniya-sprosa-i-rosta-nalogovoy-nagruzki/
END:VEVENT
END:VCALENDAR
